BEGIN:VCALENDAR
VERSION:2.0
PRODID:-//Microsoft Corporation//Outlook 16.0 MIMEDIR//FR
CALSCALE:GREGORIAN
METHOD:PUBLISH
X-WR-TIMEZONE:Europe/Monaco
X-MS-OLK-FORCEINSPECTOROPEN:"TRUE"
BEGIN:VTIMEZONE
TZID:Europe/Monaco
BEGIN:STANDARD
DTSTART:20221030T010000
TZOFFSETTO:+0100
TZOFFSETFROM:+0200
RRULE:FREQ=YEARLY;BYMONTH=11;BYDAY=1SU
END:STANDARD
BEGIN:DAYLIGHT
DTSTART:20220327T010000
TZOFFSETTO:+0200
TZOFFSETFROM:+0100
RRULE:FREQ=YEARLY;BYMONTH=3;BYDAY=2SU
END:DAYLIGHT
END:VTIMEZONE
BEGIN:VEVENT
UID:1155-a6183c07d476377cf1c706ed2a8fff1d-principocket.com\n
DTSTART:20220405T183000
DTEND:20220405T183000
TRANSP:TRANSPARENT
IMAGE;VALUE=URI;DISPLAY=;FMTTYPE=image/png:https://app.monacoplatform.
 com/uploads/nY/nYMBREfNO5.jpg
STATUS:CONFIRMED
SUMMARY:Musical Happy Hour
DESCRIPTION:Tuesday 5 April 2022\, at 6.30 pm Auditorium Rainier III\n
 \nMusical  Happy Hour: chamber music concert with Andriy Ostapchuk & M
 itchell Huang\, violins\, François Méreaux\, viola\, Delphine Perron
 e\, cello and Anastasiya Dzisyak\, piano. Music to be performed includ
 es pieces by Dmitri Shostakovic and Peteris Vasks\n\n https://www.prin
 cipocket.com/en/event/a6183c07d476377cf1c706ed2a8fff1d/musical-happy-h
 our
LOCATION:Boulevard Louis II
URL:https://www.principocket.com/event/a6183c07d476377cf1c706ed2a8fff1
 d/1155
DTSTAMP:20260420T103853Z
CREATED:20220401T142747Z
LAST-MODIFIED:20220401T142747Z
END:VEVENT
END:VCALENDAR
