BEGIN:VCALENDAR
VERSION:2.0
PRODID:-//Microsoft Corporation//Outlook 16.0 MIMEDIR//FR
CALSCALE:GREGORIAN
METHOD:PUBLISH
X-WR-TIMEZONE:Europe/Monaco
X-MS-OLK-FORCEINSPECTOROPEN:"TRUE"
BEGIN:VTIMEZONE
TZID:Europe/Monaco
BEGIN:STANDARD
DTSTART:20221030T010000
TZOFFSETTO:+0100
TZOFFSETFROM:+0200
RRULE:FREQ=YEARLY;BYMONTH=11;BYDAY=1SU
END:STANDARD
BEGIN:DAYLIGHT
DTSTART:20220327T010000
TZOFFSETTO:+0200
TZOFFSETFROM:+0100
RRULE:FREQ=YEARLY;BYMONTH=3;BYDAY=2SU
END:DAYLIGHT
END:VTIMEZONE
BEGIN:VEVENT
UID:1154-a791febad9fce4f336962f01b5908489-principocket.com\n
DTSTART:20220329T200000
DTEND:20220329T200000
TRANSP:TRANSPARENT
IMAGE;VALUE=URI;DISPLAY=;FMTTYPE=image/png:https://app.monacoplatform.
 com/uploads/-w/-w5TNJ4IlE.jpg
STATUS:CONFIRMED
SUMMARY:The Red Turtle
DESCRIPTION:Tuesday 29 March 2022\, at 8 pm Théâtre des Variétés\n
 \nThe Art of the Cinema - Movie Tuesdays - screening of the film "The 
 Red Turtle" by Michael Dudok de Wit (2016)\, organised by the Audiovis
 ual Institute of Monaco\n\n https://www.principocket.com/en/event/a791
 febad9fce4f336962f01b5908489/the-red-turtle
LOCATION:1\, boulevard Albert Ier
URL:https://www.principocket.com/event/a791febad9fce4f336962f01b590848
 9/1154
DTSTAMP:20260424T125930Z
CREATED:20220317T163810Z
LAST-MODIFIED:20220317T163810Z
END:VEVENT
END:VCALENDAR
