BEGIN:VCALENDAR
VERSION:2.0
PRODID:-//Microsoft Corporation//Outlook 16.0 MIMEDIR//FR
CALSCALE:GREGORIAN
METHOD:PUBLISH
X-WR-TIMEZONE:Europe/Monaco
X-MS-OLK-FORCEINSPECTOROPEN:"TRUE"
BEGIN:VTIMEZONE
TZID:Europe/Monaco
BEGIN:STANDARD
DTSTART:20221030T010000
TZOFFSETTO:+0100
TZOFFSETFROM:+0200
RRULE:FREQ=YEARLY;BYMONTH=11;BYDAY=1SU
END:STANDARD
BEGIN:DAYLIGHT
DTSTART:20220327T010000
TZOFFSETTO:+0200
TZOFFSETFROM:+0100
RRULE:FREQ=YEARLY;BYMONTH=3;BYDAY=2SU
END:DAYLIGHT
END:VTIMEZONE
BEGIN:VEVENT
UID:1149-6ba0e63f3fb3f3b1da4e51f35f14fb64-principocket.com\n
DTSTART:20220322T203000
DTEND:20220322T203000
TRANSP:TRANSPARENT
IMAGE;VALUE=URI;DISPLAY=;FMTTYPE=image/png:https://app.monacoplatform.
 com/uploads/QF/QFwIIi7M5N.jpg
STATUS:CONFIRMED
SUMMARY:Un Chalet A Gstaad
DESCRIPTION:Tuesday 22 March 2022\, at 8.30 pm Théâtre Princesse Gra
 ce\n\n"Un Chalet A Gstaad" ("A Chalet in Gstaad")\, written by and sta
 rring Josiane Balasko\, with Armelle\, Philippe Uchan\, Stéphan Wojt
 owicz\, George Aguilar and Justine Le Pottier\n\n https://www.principo
 cket.com/en/event/6ba0e63f3fb3f3b1da4e51f35f14fb64/un-chalet-a-gstaad
LOCATION:12\, avenue d'Ostende
URL:https://www.principocket.com/event/6ba0e63f3fb3f3b1da4e51f35f14fb6
 4/1149
DTSTAMP:20260422T232803Z
CREATED:20220317T163810Z
LAST-MODIFIED:20220317T163810Z
END:VEVENT
END:VCALENDAR
