BEGIN:VCALENDAR
VERSION:2.0
PRODID:-//Microsoft Corporation//Outlook 16.0 MIMEDIR//FR
CALSCALE:GREGORIAN
METHOD:PUBLISH
X-WR-TIMEZONE:Europe/Monaco
X-MS-OLK-FORCEINSPECTOROPEN:"TRUE"
BEGIN:VTIMEZONE
TZID:Europe/Monaco
BEGIN:STANDARD
DTSTART:20221030T010000
TZOFFSETTO:+0100
TZOFFSETFROM:+0200
RRULE:FREQ=YEARLY;BYMONTH=11;BYDAY=1SU
END:STANDARD
BEGIN:DAYLIGHT
DTSTART:20220327T010000
TZOFFSETTO:+0200
TZOFFSETFROM:+0100
RRULE:FREQ=YEARLY;BYMONTH=3;BYDAY=2SU
END:DAYLIGHT
END:VTIMEZONE
BEGIN:VEVENT
UID:1148-984b6326b80f2d1bc6997cb0805aca92-principocket.com\n
DTSTART:20220322T200000
DTEND:20220322T200000
TRANSP:TRANSPARENT
IMAGE;VALUE=URI;DISPLAY=;FMTTYPE=image/png:https://app.monacoplatform.
 com/uploads/qb/qbhAr8OXux.jpg
STATUS:CONFIRMED
SUMMARY:12 Years a Slave
DESCRIPTION:Tuesday 22 March 2022\, at 8 pm Théâtre des Variétés\n
 \nThe Art of the Cinema - Art Film - screening of the film "12 Years a
  Slave" by Steve McQueen (2014)\, organised by the Audiovisual Institu
 te of Monaco in partnership with Nouveau Musée National de Monaco\n\n
  https://www.principocket.com/en/event/984b6326b80f2d1bc6997cb0805aca9
 2/12-years-a-slave
LOCATION:1\, boulevard Albert Ier
URL:https://www.principocket.com/event/984b6326b80f2d1bc6997cb0805aca9
 2/1148
DTSTAMP:20260423T010457Z
CREATED:20220317T163810Z
LAST-MODIFIED:20220317T163810Z
END:VEVENT
END:VCALENDAR
