BEGIN:VCALENDAR
VERSION:2.0
PRODID:-//Microsoft Corporation//Outlook 16.0 MIMEDIR//FR
CALSCALE:GREGORIAN
METHOD:PUBLISH
X-WR-TIMEZONE:Europe/Monaco
X-MS-OLK-FORCEINSPECTOROPEN:"TRUE"
BEGIN:VTIMEZONE
TZID:Europe/Monaco
BEGIN:STANDARD
DTSTART:20221030T010000
TZOFFSETTO:+0100
TZOFFSETFROM:+0200
RRULE:FREQ=YEARLY;BYMONTH=11;BYDAY=1SU
END:STANDARD
BEGIN:DAYLIGHT
DTSTART:20220327T010000
TZOFFSETTO:+0200
TZOFFSETFROM:+0100
RRULE:FREQ=YEARLY;BYMONTH=3;BYDAY=2SU
END:DAYLIGHT
END:VTIMEZONE
BEGIN:VEVENT
UID:1147-e037835ab654ba0b2e934c45e0c1f214-principocket.com\n
DTSTART:20220320T000000
DTEND:20220321T235900
TRANSP:TRANSPARENT
IMAGE;VALUE=URI;DISPLAY=;FMTTYPE=image/png:https://app.monacoplatform.
 com/uploads/qX/qXq6gzJ_G5.jpg
STATUS:CONFIRMED
SUMMARY:Ligue 1 Football
DESCRIPTION:Sunday 20 March 2022\, Louis II Stadium\n\nMonaco - Paris 
 st Germain\n\n https://www.principocket.com/en/event/e037835ab654ba0b2
 e934c45e0c1f214/ligue-1-football
LOCATION:7\, avenue des Castelans
URL:https://www.principocket.com/event/e037835ab654ba0b2e934c45e0c1f21
 4/1147
DTSTAMP:20260423T024933Z
CREATED:20220317T163810Z
LAST-MODIFIED:20220317T163810Z
X-MICROSOFT-CDO-ALLDAYEVENT:TRUE
END:VEVENT
END:VCALENDAR
