BEGIN:VCALENDAR
VERSION:2.0
PRODID:-//Microsoft Corporation//Outlook 16.0 MIMEDIR//FR
CALSCALE:GREGORIAN
METHOD:PUBLISH
X-WR-TIMEZONE:Europe/Monaco
X-MS-OLK-FORCEINSPECTOROPEN:"TRUE"
BEGIN:VTIMEZONE
TZID:Europe/Monaco
BEGIN:STANDARD
DTSTART:20221030T010000
TZOFFSETTO:+0100
TZOFFSETFROM:+0200
RRULE:FREQ=YEARLY;BYMONTH=11;BYDAY=1SU
END:STANDARD
BEGIN:DAYLIGHT
DTSTART:20220327T010000
TZOFFSETTO:+0200
TZOFFSETFROM:+0100
RRULE:FREQ=YEARLY;BYMONTH=3;BYDAY=2SU
END:DAYLIGHT
END:VTIMEZONE
BEGIN:VEVENT
UID:1144-b6016823291bad65661649b1c1f9db92-principocket.com\n
DTSTART:20220304T183000
DTEND:20220304T183000
TRANSP:TRANSPARENT
IMAGE;VALUE=URI;DISPLAY=;FMTTYPE=image/png:https://app.monacoplatform.
 com/uploads/V5/V5z4StCSqf.jpg
STATUS:CONFIRMED
SUMMARY:Ne Crains Pas Joseph
DESCRIPTION:Friday 4 March 2022\, at 6.30 pm Théâtre des Variétés\
 n\n"Ne Crains Pas Joseph" ("Be Not Afraid Joseph")\, by Le Cénacle\, 
 organised by the Diocese of Monaco\n\n https://www.principocket.com/en
 /event/b6016823291bad65661649b1c1f9db92/ne-crains-pas-joseph
LOCATION:1\, boulevard Albert Ier
URL:https://www.principocket.com/event/b6016823291bad65661649b1c1f9db9
 2/1144
DTSTAMP:20260423T073852Z
CREATED:20220217T111028Z
LAST-MODIFIED:20220217T111028Z
END:VEVENT
END:VCALENDAR
