BEGIN:VCALENDAR
VERSION:2.0
PRODID:-//Microsoft Corporation//Outlook 16.0 MIMEDIR//FR
CALSCALE:GREGORIAN
METHOD:PUBLISH
X-WR-TIMEZONE:Europe/Monaco
X-MS-OLK-FORCEINSPECTOROPEN:"TRUE"
BEGIN:VTIMEZONE
TZID:Europe/Monaco
BEGIN:STANDARD
DTSTART:20221030T010000
TZOFFSETTO:+0100
TZOFFSETFROM:+0200
RRULE:FREQ=YEARLY;BYMONTH=11;BYDAY=1SU
END:STANDARD
BEGIN:DAYLIGHT
DTSTART:20220327T010000
TZOFFSETTO:+0200
TZOFFSETFROM:+0100
RRULE:FREQ=YEARLY;BYMONTH=3;BYDAY=2SU
END:DAYLIGHT
END:VTIMEZONE
BEGIN:VEVENT
UID:1142-f29a2233c54193283043713f50bc887c-principocket.com\n
DTSTART:20220222T200000
DTEND:20220222T200000
TRANSP:TRANSPARENT
IMAGE;VALUE=URI;DISPLAY=;FMTTYPE=image/png:https://app.monacoplatform.
 com/uploads/93/93Gti2V4XE.jpg
STATUS:CONFIRMED
SUMMARY:A Thousand Months
DESCRIPTION:Tuesday 22 February 2022\, at 8 pm Théâtre des Variété
 s\n\nThe Art of the Cinema - Movie Tuesdays - screening of the film "A
  Thousand Months" by Faouzi Bensaïdi (2003)\, organised by the Audiov
 isual Institute of Monaco\n\n https://www.principocket.com/en/event/f2
 9a2233c54193283043713f50bc887c/a-thousand-months
LOCATION:1\, boulevard Albert Ier
URL:https://www.principocket.com/event/f29a2233c54193283043713f50bc887
 c/1142
DTSTAMP:20260423T132909Z
CREATED:20220217T111027Z
LAST-MODIFIED:20220217T111027Z
END:VEVENT
END:VCALENDAR
