BEGIN:VCALENDAR
VERSION:2.0
PRODID:-//Microsoft Corporation//Outlook 16.0 MIMEDIR//FR
CALSCALE:GREGORIAN
METHOD:PUBLISH
X-WR-TIMEZONE:Europe/Monaco
X-MS-OLK-FORCEINSPECTOROPEN:"TRUE"
BEGIN:VTIMEZONE
TZID:Europe/Monaco
BEGIN:STANDARD
DTSTART:20221030T010000
TZOFFSETTO:+0100
TZOFFSETFROM:+0200
RRULE:FREQ=YEARLY;BYMONTH=11;BYDAY=1SU
END:STANDARD
BEGIN:DAYLIGHT
DTSTART:20220327T010000
TZOFFSETTO:+0200
TZOFFSETFROM:+0100
RRULE:FREQ=YEARLY;BYMONTH=3;BYDAY=2SU
END:DAYLIGHT
END:VTIMEZONE
BEGIN:VEVENT
UID:1141-027e40ff2a4fac4fc0b99e2a381e0593-principocket.com\n
DTSTART:20220218T183000
DTEND:20220218T183000
TRANSP:TRANSPARENT
IMAGE;VALUE=URI;DISPLAY=;FMTTYPE=image/png:https://app.monacoplatform.
 com/uploads/Fw/FwctpLhAwh.jpg
STATUS:CONFIRMED
SUMMARY:Akedia Le Diable au Désert
DESCRIPTION:Friday 18 February 2022\, at 6.30 pm Théâtre des Variét
 és\n\n"Akedia Le Diable au Désert" ("Acedia the Devil in the Wildern
 ess") by Adrien Candiard\, with Jules Meary and Gérard Rouzier\, orga
 nised by the Diocese of Monaco\n\n https://www.principocket.com/en/eve
 nt/027e40ff2a4fac4fc0b99e2a381e0593/akedia-le-diable-au-desert
LOCATION:1\, boulevard Albert Ier
URL:https://www.principocket.com/event/027e40ff2a4fac4fc0b99e2a381e059
 3/1141
DTSTAMP:20260423T164811Z
CREATED:20211025T094758Z
LAST-MODIFIED:20211025T094758Z
END:VEVENT
END:VCALENDAR
