BEGIN:VCALENDAR
VERSION:2.0
PRODID:-//Microsoft Corporation//Outlook 16.0 MIMEDIR//FR
CALSCALE:GREGORIAN
METHOD:PUBLISH
X-WR-TIMEZONE:Europe/Monaco
X-MS-OLK-FORCEINSPECTOROPEN:"TRUE"
BEGIN:VTIMEZONE
TZID:Europe/Monaco
BEGIN:STANDARD
DTSTART:20221030T010000
TZOFFSETTO:+0100
TZOFFSETFROM:+0200
RRULE:FREQ=YEARLY;BYMONTH=11;BYDAY=1SU
END:STANDARD
BEGIN:DAYLIGHT
DTSTART:20220327T010000
TZOFFSETTO:+0200
TZOFFSETFROM:+0100
RRULE:FREQ=YEARLY;BYMONTH=3;BYDAY=2SU
END:DAYLIGHT
END:VTIMEZONE
BEGIN:VEVENT
UID:1134-541671dbdfbb2141d5f669213a336536-principocket.com\n
DTSTART:20220117T000000
DTEND:20220124T235900
TRANSP:TRANSPARENT
IMAGE;VALUE=URI;DISPLAY=;FMTTYPE=image/png:https://app.monacoplatform.
 com/uploads/Q_/Q_99B1Wy-S.jpg
STATUS:CONFIRMED
SUMMARY:90th Monte-Carlo Rally
DESCRIPTION:From Monday 17 to Sunday 23 January 2022\, Principality of
  Monaco\n\nThis 2022 edition is set to be a winter spectacular as the 
 Monte-Carlo Rally comes to Monaco from Thursday 20 to Sunday 23 Januar
 y!\n\n https://www.principocket.com/en/event/541671dbdfbb2141d5f669213
 a336536/90th-monte-carlo-rally
LOCATION:Monaco
URL:https://www.principocket.com/event/541671dbdfbb2141d5f669213a33653
 6/1134
DTSTAMP:20260423T115754Z
CREATED:20220117T085732Z
LAST-MODIFIED:20220117T085732Z
X-MICROSOFT-CDO-ALLDAYEVENT:TRUE
END:VEVENT
END:VCALENDAR
