BEGIN:VCALENDAR
VERSION:2.0
PRODID:-//Microsoft Corporation//Outlook 16.0 MIMEDIR//FR
CALSCALE:GREGORIAN
METHOD:PUBLISH
X-WR-TIMEZONE:Europe/Monaco
X-MS-OLK-FORCEINSPECTOROPEN:"TRUE"
BEGIN:VTIMEZONE
TZID:Europe/Monaco
BEGIN:STANDARD
DTSTART:20221030T010000
TZOFFSETTO:+0100
TZOFFSETFROM:+0200
RRULE:FREQ=YEARLY;BYMONTH=11;BYDAY=1SU
END:STANDARD
BEGIN:DAYLIGHT
DTSTART:20220327T010000
TZOFFSETTO:+0200
TZOFFSETFROM:+0100
RRULE:FREQ=YEARLY;BYMONTH=3;BYDAY=2SU
END:DAYLIGHT
END:VTIMEZONE
BEGIN:VEVENT
UID:1133-4a07064a090c81d428ec84eb3f2c3953-principocket.com\n
DTSTART:20220111T200000
DTEND:20220111T200000
TRANSP:TRANSPARENT
IMAGE;VALUE=URI;DISPLAY=;FMTTYPE=image/png:https://app.monacoplatform.
 com/uploads/Jm/Jmwe0WhqzY.jpg
STATUS:CONFIRMED
SUMMARY:Never Say Never Again
DESCRIPTION:Tuesday 11 January 2022\, at 8 pm Théâtre des Variétés
 \n\nThe Art of the Cinema - Movie Tuesdays - screening of the film "Ne
 ver Say Never Again" by Irvin Kershner (1983)\, organised by the Audio
 visual Institute of Monaco\n\n https://www.principocket.com/en/event/4
 a07064a090c81d428ec84eb3f2c3953/never-say-never-again
LOCATION:1\, boulevard Albert Ier
URL:https://www.principocket.com/event/4a07064a090c81d428ec84eb3f2c395
 3/1133
DTSTAMP:20260423T115716Z
CREATED:20220106T080345Z
LAST-MODIFIED:20220106T080345Z
END:VEVENT
END:VCALENDAR
