BEGIN:VCALENDAR
VERSION:2.0
PRODID:-//Microsoft Corporation//Outlook 16.0 MIMEDIR//FR
CALSCALE:GREGORIAN
METHOD:PUBLISH
X-WR-TIMEZONE:Europe/Monaco
X-MS-OLK-FORCEINSPECTOROPEN:"TRUE"
BEGIN:VTIMEZONE
TZID:Europe/Monaco
BEGIN:STANDARD
DTSTART:20211031T010000
TZOFFSETTO:+0100
TZOFFSETFROM:+0200
RRULE:FREQ=YEARLY;BYMONTH=11;BYDAY=1SU
END:STANDARD
BEGIN:DAYLIGHT
DTSTART:20210328T010000
TZOFFSETTO:+0200
TZOFFSETFROM:+0100
RRULE:FREQ=YEARLY;BYMONTH=3;BYDAY=2SU
END:DAYLIGHT
END:VTIMEZONE
BEGIN:VEVENT
UID:1130-60d26f77d45850cb0e032f75e9747441-principocket.com\n
DTSTART:20211214T200000
DTEND:20211214T200000
TRANSP:TRANSPARENT
IMAGE;VALUE=URI;DISPLAY=;FMTTYPE=image/png:https://app.monacoplatform.
 com/uploads/ve/vequLmMxVY.jpg
STATUS:CONFIRMED
SUMMARY:The Life Aquatic with Steve Zissou
DESCRIPTION:Tuesday 14 December 2021\, at 8 pm Théâtre des Variété
 s\n\nThe Art of the Cinema - Movie Tuesdays - screening of the film "T
 he Life Aquatic with Steve Zissou" by Wes Anderson (2005)\, organised 
 by the Audiovisual Institute of Monaco\n\n https://www.principocket.co
 m/en/event/60d26f77d45850cb0e032f75e9747441/the-life-aquatic-with-stev
 e-zissou
LOCATION:1\, boulevard Albert Ier
URL:https://www.principocket.com/event/60d26f77d45850cb0e032f75e974744
 1/1130
DTSTAMP:20260423T053710Z
CREATED:20211210T101854Z
LAST-MODIFIED:20211210T101854Z
END:VEVENT
END:VCALENDAR
