BEGIN:VCALENDAR
VERSION:2.0
PRODID:-//Microsoft Corporation//Outlook 16.0 MIMEDIR//FR
CALSCALE:GREGORIAN
METHOD:PUBLISH
X-WR-TIMEZONE:Europe/Monaco
X-MS-OLK-FORCEINSPECTOROPEN:"TRUE"
BEGIN:VTIMEZONE
TZID:Europe/Monaco
BEGIN:STANDARD
DTSTART:20211031T010000
TZOFFSETTO:+0100
TZOFFSETFROM:+0200
RRULE:FREQ=YEARLY;BYMONTH=11;BYDAY=1SU
END:STANDARD
BEGIN:DAYLIGHT
DTSTART:20210328T010000
TZOFFSETTO:+0200
TZOFFSETFROM:+0100
RRULE:FREQ=YEARLY;BYMONTH=3;BYDAY=2SU
END:DAYLIGHT
END:VTIMEZONE
BEGIN:VEVENT
UID:1128-37ef0d3f835dfe6e810550181fab1610-principocket.com\n
DTSTART:20211204T203000
DTEND:20211204T203000
TRANSP:TRANSPARENT
IMAGE;VALUE=URI;DISPLAY=;FMTTYPE=image/png:https://app.monacoplatform.
 com/uploads/f7/f7kIdMgfLo.jpg
STATUS:CONFIRMED
SUMMARY:David Hallyday
DESCRIPTION:Saturday 4 December 2021\, at 8.30 pm Opéra de Monte-Carl
 o - Salle Garnier\n\nMonte-Carlo Jazz Festival 2021: David Hallyday li
 ve in concert\n\n https://www.principocket.com/en/event/37ef0d3f835dfe
 6e810550181fab1610/david-hallyday
LOCATION:Place du Casino
URL:https://www.principocket.com/event/37ef0d3f835dfe6e810550181fab161
 0/1128
DTSTAMP:20260423T022321Z
CREATED:20211202T104536Z
LAST-MODIFIED:20211202T104536Z
END:VEVENT
END:VCALENDAR
