BEGIN:VCALENDAR
VERSION:2.0
PRODID:-//Microsoft Corporation//Outlook 16.0 MIMEDIR//FR
CALSCALE:GREGORIAN
METHOD:PUBLISH
X-WR-TIMEZONE:Europe/Monaco
X-MS-OLK-FORCEINSPECTOROPEN:"TRUE"
BEGIN:VTIMEZONE
TZID:Europe/Monaco
BEGIN:STANDARD
DTSTART:20211031T010000
TZOFFSETTO:+0100
TZOFFSETFROM:+0200
RRULE:FREQ=YEARLY;BYMONTH=11;BYDAY=1SU
END:STANDARD
BEGIN:DAYLIGHT
DTSTART:20210328T010000
TZOFFSETTO:+0200
TZOFFSETFROM:+0100
RRULE:FREQ=YEARLY;BYMONTH=3;BYDAY=2SU
END:DAYLIGHT
END:VTIMEZONE
BEGIN:VEVENT
UID:1127-bd28a6df516ca0cbeec88021f89e304a-principocket.com\n
DTSTART:20211203T203000
DTEND:20211203T203000
TRANSP:TRANSPARENT
IMAGE;VALUE=URI;DISPLAY=;FMTTYPE=image/png:https://app.monacoplatform.
 com/uploads/bM/bMjTWkUdOd.jpg
STATUS:CONFIRMED
SUMMARY:Paul Personne
DESCRIPTION:Friday 3 December 2021\, at 8.30 pm Opéra de Monte-Carlo 
 - Salle Garnier\n\nMonte-Carlo Jazz Festival 2021: Paul Personne live 
 in concert\n\n https://www.principocket.com/en/event/bd28a6df516ca0cbe
 ec88021f89e304a/paul-personne
LOCATION:Place du Casino
URL:https://www.principocket.com/event/bd28a6df516ca0cbeec88021f89e304
 a/1127
DTSTAMP:20260423T004218Z
CREATED:20211202T104536Z
LAST-MODIFIED:20211202T104536Z
END:VEVENT
END:VCALENDAR
