BEGIN:VCALENDAR
VERSION:2.0
PRODID:-//Microsoft Corporation//Outlook 16.0 MIMEDIR//FR
CALSCALE:GREGORIAN
METHOD:PUBLISH
X-WR-TIMEZONE:Europe/Monaco
X-MS-OLK-FORCEINSPECTOROPEN:"TRUE"
BEGIN:VTIMEZONE
TZID:Europe/Monaco
BEGIN:STANDARD
DTSTART:20211031T010000
TZOFFSETTO:+0100
TZOFFSETFROM:+0200
RRULE:FREQ=YEARLY;BYMONTH=11;BYDAY=1SU
END:STANDARD
BEGIN:DAYLIGHT
DTSTART:20210328T010000
TZOFFSETTO:+0200
TZOFFSETFROM:+0100
RRULE:FREQ=YEARLY;BYMONTH=3;BYDAY=2SU
END:DAYLIGHT
END:VTIMEZONE
BEGIN:VEVENT
UID:1123-485953121dd9101575da331b9f95e573-principocket.com\n
DTSTART:20211125T203000
DTEND:20211125T203000
TRANSP:TRANSPARENT
IMAGE;VALUE=URI;DISPLAY=;FMTTYPE=image/png:https://app.monacoplatform.
 com/uploads/Ek/Eku_nfTka2.jpg
STATUS:CONFIRMED
SUMMARY:Steve Hackett
DESCRIPTION:Thursday 25 November 2021\, at 8.30 pm Opéra de Monte-Car
 lo - Salle Garnier\n\nAn event not to be missed! Steve Hackett will be
  performing on stage at the Opéra Garnier Monte-Carlo on 25 November!
 \n\n https://www.principocket.com/en/event/485953121dd9101575da331b9f9
 5e573/steve-hackett
LOCATION:Place du Casino
URL:https://www.principocket.com/event/485953121dd9101575da331b9f95e57
 3/1123
DTSTAMP:20260422T171327Z
CREATED:20211122T163222Z
LAST-MODIFIED:20211122T163222Z
END:VEVENT
END:VCALENDAR
