BEGIN:VCALENDAR
VERSION:2.0
PRODID:-//Microsoft Corporation//Outlook 16.0 MIMEDIR//FR
CALSCALE:GREGORIAN
METHOD:PUBLISH
X-WR-TIMEZONE:Europe/Monaco
X-MS-OLK-FORCEINSPECTOROPEN:"TRUE"
BEGIN:VTIMEZONE
TZID:Europe/Monaco
BEGIN:STANDARD
DTSTART:20211031T010000
TZOFFSETTO:+0100
TZOFFSETFROM:+0200
RRULE:FREQ=YEARLY;BYMONTH=11;BYDAY=1SU
END:STANDARD
BEGIN:DAYLIGHT
DTSTART:20210328T010000
TZOFFSETTO:+0200
TZOFFSETFROM:+0100
RRULE:FREQ=YEARLY;BYMONTH=3;BYDAY=2SU
END:DAYLIGHT
END:VTIMEZONE
BEGIN:VEVENT
UID:1120-41fd6419c4420b13ef31866c3de3ffa7-principocket.com\n
DTSTART:20211123T203000
DTEND:20211123T203000
TRANSP:TRANSPARENT
IMAGE;VALUE=URI;DISPLAY=;FMTTYPE=image/png:https://app.monacoplatform.
 com/uploads/mc/mcOYbozA6P.jpg
STATUS:CONFIRMED
SUMMARY:Avishai Cohen Trio
DESCRIPTION:Tuesday 23 November 2021\, at 8.30 pm Opéra de Monte-Carl
 o - Salle Garnier\n\nMonte-Carlo Jazz Festival 2021: Avishai Cohen Tri
 o live in concert\n\n https://www.principocket.com/en/event/41fd6419c4
 420b13ef31866c3de3ffa7/avishai-cohen-trio
LOCATION:Place du Casino
URL:https://www.principocket.com/event/41fd6419c4420b13ef31866c3de3ffa
 7/1120
DTSTAMP:20260422T115640Z
CREATED:20211122T163222Z
LAST-MODIFIED:20211122T163222Z
END:VEVENT
END:VCALENDAR
