BEGIN:VCALENDAR
VERSION:2.0
PRODID:-//Microsoft Corporation//Outlook 16.0 MIMEDIR//FR
CALSCALE:GREGORIAN
METHOD:PUBLISH
X-WR-TIMEZONE:Europe/Monaco
X-MS-OLK-FORCEINSPECTOROPEN:"TRUE"
BEGIN:VTIMEZONE
TZID:Europe/Monaco
BEGIN:STANDARD
DTSTART:20211031T010000
TZOFFSETTO:+0100
TZOFFSETFROM:+0200
RRULE:FREQ=YEARLY;BYMONTH=11;BYDAY=1SU
END:STANDARD
BEGIN:DAYLIGHT
DTSTART:20210328T010000
TZOFFSETTO:+0200
TZOFFSETFROM:+0100
RRULE:FREQ=YEARLY;BYMONTH=3;BYDAY=2SU
END:DAYLIGHT
END:VTIMEZONE
BEGIN:VEVENT
UID:1117-697e9857a9c33b354cfa357d4ecfe1c3-principocket.com\n
DTSTART:20211109T200000
DTEND:20211109T200000
TRANSP:TRANSPARENT
IMAGE;VALUE=URI;DISPLAY=;FMTTYPE=image/png:https://app.monacoplatform.
 com/uploads/Sb/SbGC0kArdG.jpg
STATUS:CONFIRMED
SUMMARY:F for Fake
DESCRIPTION:Tuesday 9 November 2021\, at 8 pm Théâtre des Variétés
 \n\nThe Art of the Cinema - Restored Film - screening of the film "F f
 or Fake" by Orson Welles (1973)\, organised by the Audiovisual Institu
 te of Monaco in partnership with La Cinémathèque Française\n\n http
 s://www.principocket.com/en/event/697e9857a9c33b354cfa357d4ecfe1c3/f-f
 or-fake
LOCATION:1\, boulevard Albert Ier
URL:https://www.principocket.com/event/697e9857a9c33b354cfa357d4ecfe1c
 3/1117
DTSTAMP:20260420T202555Z
CREATED:20211025T094757Z
LAST-MODIFIED:20211025T094757Z
END:VEVENT
END:VCALENDAR
