BEGIN:VCALENDAR
VERSION:2.0
PRODID:-//Microsoft Corporation//Outlook 16.0 MIMEDIR//FR
CALSCALE:GREGORIAN
METHOD:PUBLISH
X-WR-TIMEZONE:Europe/Monaco
X-MS-OLK-FORCEINSPECTOROPEN:"TRUE"
BEGIN:VTIMEZONE
TZID:Europe/Monaco
BEGIN:STANDARD
DTSTART:20211031T010000
TZOFFSETTO:+0100
TZOFFSETFROM:+0200
RRULE:FREQ=YEARLY;BYMONTH=11;BYDAY=1SU
END:STANDARD
BEGIN:DAYLIGHT
DTSTART:20210328T010000
TZOFFSETTO:+0200
TZOFFSETFROM:+0100
RRULE:FREQ=YEARLY;BYMONTH=3;BYDAY=2SU
END:DAYLIGHT
END:VTIMEZONE
BEGIN:VEVENT
UID:1116-172cedd0e112079f9ee69284b81bd85c-principocket.com\n
DTSTART:20211102T203000
DTEND:20211102T203000
TRANSP:TRANSPARENT
IMAGE;VALUE=URI;DISPLAY=;FMTTYPE=image/png:https://app.monacoplatform.
 com/uploads/yf/yffb5HLrwt.jpg
STATUS:CONFIRMED
SUMMARY:Musical Show
DESCRIPTION:Tuesday 2 November 2021\, at 8.30 pm Théâtre des Variét
 és\n\n"Dream"\, a musical performance by an artists' collective\, in 
 aid of the charity Soupe de Nuit Monaco\n\n https://www.principocket.c
 om/en/event/172cedd0e112079f9ee69284b81bd85c/musical-show
LOCATION:1\, boulevard Albert Ier
URL:https://www.principocket.com/event/172cedd0e112079f9ee69284b81bd85
 c/1116
DTSTAMP:20260420T190918Z
CREATED:20211025T094757Z
LAST-MODIFIED:20211025T094757Z
END:VEVENT
END:VCALENDAR
