BEGIN:VCALENDAR
VERSION:2.0
PRODID:-//Microsoft Corporation//Outlook 16.0 MIMEDIR//FR
CALSCALE:GREGORIAN
METHOD:PUBLISH
X-WR-TIMEZONE:Europe/Monaco
X-MS-OLK-FORCEINSPECTOROPEN:"TRUE"
BEGIN:VTIMEZONE
TZID:Europe/Monaco
BEGIN:STANDARD
DTSTART:20211031T010000
TZOFFSETTO:+0100
TZOFFSETFROM:+0200
RRULE:FREQ=YEARLY;BYMONTH=11;BYDAY=1SU
END:STANDARD
BEGIN:DAYLIGHT
DTSTART:20210328T010000
TZOFFSETTO:+0200
TZOFFSETFROM:+0100
RRULE:FREQ=YEARLY;BYMONTH=3;BYDAY=2SU
END:DAYLIGHT
END:VTIMEZONE
BEGIN:VEVENT
UID:1071-f32733151923c38e0b4838899e2067a9-principocket.com\n
DTSTART:20211216T203000
DTEND:20211216T203000
TRANSP:TRANSPARENT
IMAGE;VALUE=URI;DISPLAY=;FMTTYPE=image/png:https://app.monacoplatform.
 com/uploads/wF/wFW7KRPyzd.jpg
STATUS:CONFIRMED
SUMMARY:Je ne serais pas arrivée là, si...
DESCRIPTION:Thursday 16 December 2021\, at 8.30 pm Théâtre Princesse
  Grace\n\n"Je ne serais pas arrivée là\, si..." ("I Wouldn't Be He
 re If...") by Annick Cojean\, with Julie Gayet and Judith Henry\n\n ht
 tps://www.principocket.com/en/event/f32733151923c38e0b4838899e2067a9/j
 e-ne-serais-pas-arrivee-la-si
LOCATION:12\, avenue d'Ostende
URL:https://www.principocket.com/event/f32733151923c38e0b4838899e2067a
 9/1071
DTSTAMP:20260420T154907Z
CREATED:20211210T101854Z
LAST-MODIFIED:20211210T101854Z
END:VEVENT
END:VCALENDAR
