BEGIN:VCALENDAR
VERSION:2.0
PRODID:-//Microsoft Corporation//Outlook 16.0 MIMEDIR//FR
CALSCALE:GREGORIAN
METHOD:PUBLISH
X-WR-TIMEZONE:Europe/Monaco
X-MS-OLK-FORCEINSPECTOROPEN:"TRUE"
BEGIN:VTIMEZONE
TZID:Europe/Monaco
BEGIN:STANDARD
DTSTART:20211031T010000
TZOFFSETTO:+0100
TZOFFSETFROM:+0200
RRULE:FREQ=YEARLY;BYMONTH=11;BYDAY=1SU
END:STANDARD
BEGIN:DAYLIGHT
DTSTART:20210328T010000
TZOFFSETTO:+0200
TZOFFSETFROM:+0100
RRULE:FREQ=YEARLY;BYMONTH=3;BYDAY=2SU
END:DAYLIGHT
END:VTIMEZONE
BEGIN:VEVENT
UID:1069-24289f7416264e07ce53b1bf0001d97c-principocket.com\n
DTSTART:20211214T000000
DTEND:20211216T235900
TRANSP:TRANSPARENT
IMAGE;VALUE=URI;DISPLAY=;FMTTYPE=image/png:https://app.monacoplatform.
 com/uploads/4T/4Tsof20cmj.jpg
STATUS:CONFIRMED
SUMMARY:Monaco Dance Forum
DESCRIPTION:Tuesday 14 December\, at 2 pm and Wednesday 15 December 20
 21\, at 7.30 pm Opéra de Monte-Carlo - Salle Garnier\n\nMonaco Dance 
 Forum: "Hamlet" by Matteini & Broeckx\, a choreographical performance 
 by the Compagnie des Ballets de Monte-Carlo\n\n https://www.principock
 et.com/en/event/24289f7416264e07ce53b1bf0001d97c/monaco-dance-forum
LOCATION:Place du Casino
URL:https://www.principocket.com/event/24289f7416264e07ce53b1bf0001d97
 c/1069
DTSTAMP:20260422T140140Z
CREATED:20211210T101854Z
LAST-MODIFIED:20211210T101854Z
X-MICROSOFT-CDO-ALLDAYEVENT:TRUE
END:VEVENT
END:VCALENDAR
