BEGIN:VCALENDAR
VERSION:2.0
PRODID:-//Microsoft Corporation//Outlook 16.0 MIMEDIR//FR
CALSCALE:GREGORIAN
METHOD:PUBLISH
X-WR-TIMEZONE:Europe/Monaco
X-MS-OLK-FORCEINSPECTOROPEN:"TRUE"
BEGIN:VTIMEZONE
TZID:Europe/Monaco
BEGIN:STANDARD
DTSTART:20221030T010000
TZOFFSETTO:+0100
TZOFFSETFROM:+0200
RRULE:FREQ=YEARLY;BYMONTH=11;BYDAY=1SU
END:STANDARD
BEGIN:DAYLIGHT
DTSTART:20220327T010000
TZOFFSETTO:+0200
TZOFFSETFROM:+0100
RRULE:FREQ=YEARLY;BYMONTH=3;BYDAY=2SU
END:DAYLIGHT
END:VTIMEZONE
BEGIN:VEVENT
UID:1035-f4961e8d1978c6185fc7c3dda2857dcd-principocket.com\n
DTSTART:20220206T180000
DTEND:20220206T180000
TRANSP:TRANSPARENT
IMAGE;VALUE=URI;DISPLAY=;FMTTYPE=image/png:https://app.monacoplatform.
 com/uploads/Ag/AgSf3_WkPs.jpg
STATUS:CONFIRMED
SUMMARY:Symphonic Concert
DESCRIPTION:Sunday 6 February 2022\, at 6 pm Auditorium Rainier III\n\
 nGrand Season Series: symphonic concert by the Monte-Carlo Philharmoni
 c Orchestra conducted by Kazuki Yamada with David Fray\, piano and Cec
 ilia Bartoli\, mezzo-soprano. Music to be performed includes pieces by
  Wolfgang Amadeus Mozart\n\n https://www.principocket.com/en/event/f49
 61e8d1978c6185fc7c3dda2857dcd/symphonic-concert
LOCATION:Boulevard Louis II
URL:https://www.principocket.com/event/f4961e8d1978c6185fc7c3dda2857dc
 d/1035
DTSTAMP:20260421T080052Z
CREATED:20220124T083114Z
LAST-MODIFIED:20220124T083114Z
END:VEVENT
END:VCALENDAR
