BEGIN:VCALENDAR
VERSION:2.0
PRODID:-//Microsoft Corporation//Outlook 16.0 MIMEDIR//FR
CALSCALE:GREGORIAN
METHOD:PUBLISH
X-WR-TIMEZONE:Europe/Monaco
X-MS-OLK-FORCEINSPECTOROPEN:"TRUE"
BEGIN:VTIMEZONE
TZID:Europe/Monaco
BEGIN:STANDARD
DTSTART:20221030T010000
TZOFFSETTO:+0100
TZOFFSETFROM:+0200
RRULE:FREQ=YEARLY;BYMONTH=11;BYDAY=1SU
END:STANDARD
BEGIN:DAYLIGHT
DTSTART:20220327T010000
TZOFFSETTO:+0200
TZOFFSETFROM:+0100
RRULE:FREQ=YEARLY;BYMONTH=3;BYDAY=2SU
END:DAYLIGHT
END:VTIMEZONE
BEGIN:VEVENT
UID:1033-d6e70676b40c9faf8bd1f9ec7b0e938b-principocket.com\n
DTSTART:20220204T200000
DTEND:20220204T200000
TRANSP:TRANSPARENT
IMAGE;VALUE=URI;DISPLAY=;FMTTYPE=image/png:https://app.monacoplatform.
 com/uploads/Lh/LhImFPSqvp.jpg
STATUS:CONFIRMED
SUMMARY:Chamber Music Concert
DESCRIPTION:Friday 4 February 2022\, at 8 pm Auditorium Rainier III\n\
 nGrand Season Series: chamber music concert with David Bismuth\, piano
 \, Liza Kerob\, violin\, Federico Andres Hood\, viola\, and Thierry Am
 adi\, cello. Music to be performed includes pieces by Ludwig van Beeth
 oven and Wolfgang Amadeus Mozart\n\n https://www.principocket.com/en/e
 vent/d6e70676b40c9faf8bd1f9ec7b0e938b/chamber-music-concert
LOCATION:Boulevard Louis II
URL:https://www.principocket.com/event/d6e70676b40c9faf8bd1f9ec7b0e938
 b/1033
DTSTAMP:20260421T042836Z
CREATED:20220124T083114Z
LAST-MODIFIED:20220124T083114Z
END:VEVENT
END:VCALENDAR
