BEGIN:VCALENDAR
VERSION:2.0
PRODID:-//Microsoft Corporation//Outlook 16.0 MIMEDIR//FR
CALSCALE:GREGORIAN
METHOD:PUBLISH
X-WR-TIMEZONE:Europe/Monaco
X-MS-OLK-FORCEINSPECTOROPEN:"TRUE"
BEGIN:VTIMEZONE
TZID:Europe/Monaco
BEGIN:STANDARD
DTSTART:20221030T010000
TZOFFSETTO:+0100
TZOFFSETFROM:+0200
RRULE:FREQ=YEARLY;BYMONTH=11;BYDAY=1SU
END:STANDARD
BEGIN:DAYLIGHT
DTSTART:20220327T010000
TZOFFSETTO:+0200
TZOFFSETFROM:+0100
RRULE:FREQ=YEARLY;BYMONTH=3;BYDAY=2SU
END:DAYLIGHT
END:VTIMEZONE
BEGIN:VEVENT
UID:1031-f0bea3ed083fb59be5e31d791563f9f8-principocket.com\n
DTSTART:20220130T180000
DTEND:20220130T180000
TRANSP:TRANSPARENT
IMAGE;VALUE=URI;DISPLAY=;FMTTYPE=image/png:https://app.monacoplatform.
 com/uploads/mM/mM9Se_3_Wf.jpg
STATUS:CONFIRMED
SUMMARY:Symphonic Concert
DESCRIPTION:Sunday 30 January 2022\, at 6 pm Auditorium Rainier III\n\
 nGrand Season Series: symphonic concert by the Monte-Carlo Philharmoni
 c Orchestra conducted by Kazuki Yamada with Martin Helmchen\, piano\, 
 Matthieu Petitjean\, oboe\, Marie-B. Barrière-Bilote\, clarinet\, Art
 hur Menrath\, bassoon and Andrea Cesari\, horn. Music to be performed 
 includes pieces by Wolfgang Amadeus Mozart and Joseph Haydn\n\n https:
 //www.principocket.com/en/event/f0bea3ed083fb59be5e31d791563f9f8/symph
 onic-concert
LOCATION:Boulevard Louis II
URL:https://www.principocket.com/event/f0bea3ed083fb59be5e31d791563f9f
 8/1031
DTSTAMP:20260421T013200Z
CREATED:20220124T083114Z
LAST-MODIFIED:20220124T083114Z
END:VEVENT
END:VCALENDAR
