BEGIN:VCALENDAR
VERSION:2.0
PRODID:-//Microsoft Corporation//Outlook 16.0 MIMEDIR//FR
CALSCALE:GREGORIAN
METHOD:PUBLISH
X-WR-TIMEZONE:Europe/Monaco
X-MS-OLK-FORCEINSPECTOROPEN:"TRUE"
BEGIN:VTIMEZONE
TZID:Europe/Monaco
BEGIN:STANDARD
DTSTART:20221030T010000
TZOFFSETTO:+0100
TZOFFSETFROM:+0200
RRULE:FREQ=YEARLY;BYMONTH=11;BYDAY=1SU
END:STANDARD
BEGIN:DAYLIGHT
DTSTART:20220327T010000
TZOFFSETTO:+0200
TZOFFSETFROM:+0100
RRULE:FREQ=YEARLY;BYMONTH=3;BYDAY=2SU
END:DAYLIGHT
END:VTIMEZONE
BEGIN:VEVENT
UID:1030-73e20da53f8ce6213460a1898d661e07-principocket.com\n
DTSTART:20220128T190000
DTEND:20220128T190000
TRANSP:TRANSPARENT
IMAGE;VALUE=URI;DISPLAY=;FMTTYPE=image/png:https://app.monacoplatform.
 com/uploads/Px/Px8mmKTjmI.jpg
STATUS:CONFIRMED
SUMMARY:Turkish Airlines EuroLeague
DESCRIPTION:Friday 28 January 2022\, at 7 pm Stade Louis II - Salle Om
 nisports Gaston Médecin\n\n AS Monaco Roca Team - Real Madrid\n\n ht
 tps://www.principocket.com/en/event/73e20da53f8ce6213460a1898d661e07/t
 urkish-airlines-euroleague
LOCATION:Stade Louis II
URL:https://www.principocket.com/event/73e20da53f8ce6213460a1898d661e0
 7/1030
DTSTAMP:20260421T000012Z
CREATED:20220124T083114Z
LAST-MODIFIED:20220124T083114Z
END:VEVENT
END:VCALENDAR
