BEGIN:VCALENDAR
VERSION:2.0
PRODID:-//Microsoft Corporation//Outlook 16.0 MIMEDIR//FR
CALSCALE:GREGORIAN
METHOD:PUBLISH
X-WR-TIMEZONE:Europe/Monaco
X-MS-OLK-FORCEINSPECTOROPEN:"TRUE"
BEGIN:VTIMEZONE
TZID:Europe/Monaco
BEGIN:STANDARD
DTSTART:20221030T010000
TZOFFSETTO:+0100
TZOFFSETFROM:+0200
RRULE:FREQ=YEARLY;BYMONTH=11;BYDAY=1SU
END:STANDARD
BEGIN:DAYLIGHT
DTSTART:20220327T010000
TZOFFSETTO:+0200
TZOFFSETFROM:+0100
RRULE:FREQ=YEARLY;BYMONTH=3;BYDAY=2SU
END:DAYLIGHT
END:VTIMEZONE
BEGIN:VEVENT
UID:1029-875607d0795ab423e1727c77d15ec1b5-principocket.com\n
DTSTART:20220127T200000
DTEND:20220127T200000
TRANSP:TRANSPARENT
IMAGE;VALUE=URI;DISPLAY=;FMTTYPE=image/png:https://app.monacoplatform.
 com/uploads/DY/DYRvelJtpU.jpg
STATUS:CONFIRMED
SUMMARY:Symphonic Concert
DESCRIPTION:Thursday 27 January 2022\, at 8 pm Auditorium Rainier III\
 n\nGrand Season Series: symphonic concert by the Monte-Carlo Philharmo
 nic Orchestra conducted by Gábor Takács-Nagy with Fatma Saïd\, sopr
 ano and Martin Helmchen\, piano. Music to be performed includes pieces
  by Wolfgang Amadeus Mozart and Joseph Haydn\n\n https://www.principoc
 ket.com/en/event/875607d0795ab423e1727c77d15ec1b5/symphonic-concert
LOCATION:Boulevard Louis II
URL:https://www.principocket.com/event/875607d0795ab423e1727c77d15ec1b
 5/1029
DTSTAMP:20260420T234448Z
CREATED:20220124T083114Z
LAST-MODIFIED:20220124T083114Z
END:VEVENT
END:VCALENDAR
