BEGIN:VCALENDAR
VERSION:2.0
PRODID:-//Microsoft Corporation//Outlook 16.0 MIMEDIR//FR
CALSCALE:GREGORIAN
METHOD:PUBLISH
X-WR-TIMEZONE:Europe/Monaco
X-MS-OLK-FORCEINSPECTOROPEN:"TRUE"
BEGIN:VTIMEZONE
TZID:Europe/Monaco
BEGIN:STANDARD
DTSTART:20221030T010000
TZOFFSETTO:+0100
TZOFFSETFROM:+0200
RRULE:FREQ=YEARLY;BYMONTH=11;BYDAY=1SU
END:STANDARD
BEGIN:DAYLIGHT
DTSTART:20220327T010000
TZOFFSETTO:+0200
TZOFFSETFROM:+0100
RRULE:FREQ=YEARLY;BYMONTH=3;BYDAY=2SU
END:DAYLIGHT
END:VTIMEZONE
BEGIN:VEVENT
UID:1027-4b81ff4deb463791e615a38a6cca7b46-principocket.com\n
DTSTART:20220121T000000
DTEND:20220128T235900
TRANSP:TRANSPARENT
IMAGE;VALUE=URI;DISPLAY=;FMTTYPE=image/png:https://app.monacoplatform.
 com/uploads/Ru/RuWV52jCZY.jpg
STATUS:CONFIRMED
SUMMARY:Il Turco in Italia
DESCRIPTION:Friday 21 January (gala)\, at 8 pm\, Sunday 23 January\, a
 t 3 pm\, Tuesday 25 and Thursday 27 January 2022\, at 8 pm Opéra de M
 onte-Carlo - Salle Garnier\n\n"Il Turco in Italia" by Gioachino Rossin
 i with Cecilia Bartoli\, José Maria Lo Monaco\, Barry Banks\, David A
 storga\, Ildar Abdrazakov\, Nicola Alaimo\, Giovanni Romeo\, the Choru
 s of the Opéra de Monte-Carlo and the ensemble Les Musiciens du Princ
 e-Monaco\, conducted by Gianluca Capuano\, organised by the Opéra de 
 Monte-Carlo\n\n https://www.principocket.com/en/event/4b81ff4deb463791
 e615a38a6cca7b46/il-turco-in-italia
LOCATION:Place du Casino
URL:https://www.principocket.com/event/4b81ff4deb463791e615a38a6cca7b4
 6/1027
DTSTAMP:20260420T192937Z
CREATED:20220124T083114Z
LAST-MODIFIED:20220124T083114Z
X-MICROSOFT-CDO-ALLDAYEVENT:TRUE
END:VEVENT
END:VCALENDAR
